BEGIN:VCALENDAR
PRODID:-//AT Content Types//AT Event//EN
VERSION:1.0
BEGIN:VEVENT
DTSTART:20180209T230000Z
DTEND:20180210T223000Z
DCREATED:20180201T200752Z
UID:ATEvent-0da997e032364979b69227bde6ddec2e
SEQUENCE:0
LAST-MODIFIED:20180201T200752Z
SUMMARY:Western Dressage Clinic
LOCATION:FENCE Equestrian Side
PRIORITY:3
TRANSP:0
END:VEVENT
END:VCALENDAR
