BEGIN:VCALENDAR
PRODID:-//AT Content Types//AT Event//EN
VERSION:2.0
METHOD:PUBLISH
BEGIN:VEVENT
DTSTAMP:20260423T140959Z
CREATED:20170505T203801Z
UID:ATEvent-ae925501f44649498ca49fbd9f8432e0
LAST-MODIFIED:20170524T124728Z
SUMMARY:Wellness Walking Wednesdays
DTSTART:20170524T130000Z
DTEND:20170524T140000Z
DESCRIPTION:FENCE is happy to announce the formation of a new group to
  promote a healthy lifestyle. Wellness Walking Wednesdays is a weekly 
 event incorporating physical activity into your weekly routine has pro
 ven to benefit your health by lowering blood pressure and cholesterol\
 , reducing risk of heart disease and stroke\, and increasing mental we
 ll-being. Come out and enjoy a relaxing morning in nature\, meet new p
 eople and form a healthy habit with Americorps member Michael McClure.
  This group is free and open to all ages—simply show up at the main 
 office at FENCE.
LOCATION:FENCE Center
CATEGORIES:Family
CONTACT:Tracie Hanson\, 8288599021\, info@fence.org
CLASS:PUBLIC
END:VEVENT
END:VCALENDAR
