BEGIN:VCALENDAR
PRODID:-//AT Content Types//AT Event//EN
VERSION:1.0
BEGIN:VEVENT
DTSTART:20170513T140000Z
DTEND:20170513T153000Z
DCREATED:20170105T173747Z
UID:ATEvent-ca9cd4f4812747a7ba79c242517111b4
SEQUENCE:0
LAST-MODIFIED:20170505T202003Z
SUMMARY:Water Colors with Christine Mariotti
DESCRIPTION:Local Artist\, Christine Mariotti\, will be teaching a wat
 ercolor class at FENCE 'En Plein Air'. This class will be held outdoor
 s near the gardens and focus on painting flowers. All supplies will be
  provided for attendees. This class is free but pre-registration is re
 quired. This class is made possible by the Kirby Endowment at the Polk
  County Community Foundation.
LOCATION:FENCE Center
PRIORITY:3
TRANSP:0
END:VEVENT
END:VCALENDAR
