BEGIN:VCALENDAR
PRODID:-//AT Content Types//AT Event//EN
VERSION:1.0
BEGIN:VEVENT
DTSTART:20140331T220000Z
DTEND:20140331T233000Z
DCREATED:20140328T154820Z
UID:ATEvent-bb585edd-9734-4314-b909-6419b5bf6b76
SEQUENCE:0
LAST-MODIFIED:20140328T154821Z
SUMMARY:Want to learn more about  “Open Horse Shows”?
DESCRIPTION:Do you have questions such as	what classes	to enter\, what
  is the proper	tack/attire\, what is	involved	in preparation\, etc.?
PRIORITY:3
TRANSP:0
END:VEVENT
END:VCALENDAR
