BEGIN:VCALENDAR
PRODID:-//AT Content Types//AT Event//EN
VERSION:1.0
BEGIN:VEVENT
DTSTART:20170510T140000Z
DTEND:20170510T150000Z
DCREATED:20170505T203311Z
UID:ATEvent-fa0a34024fef4352ae301f0ebaff0ff9
SEQUENCE:0
LAST-MODIFIED:20170505T203522Z
SUMMARY:Wellness Walking Wednesday
DESCRIPTION:FENCE is happy to announce the formation of a new group to
  promote a healthy lifestyle. Wellness Walking Wednesdays is a weekly 
 event incorporating physical activity into your weekly routine has pro
 ven to benefit your health by lowering blood pressure and cholesterol\
 , reducing risk of heart disease and stroke\, and increasing mental we
 ll-being. Come out and enjoy a relaxing morning in nature\, meet new p
 eople and form a healthy habit with Americorps member Michael McClure.
  This group is free and open to all ages—simply show up at the main 
 office at FENCE.
LOCATION:FENCE Center
PRIORITY:3
TRANSP:0
END:VEVENT
END:VCALENDAR
