BEGIN:VCALENDAR
PRODID:-//AT Content Types//AT Event//EN
VERSION:2.0
METHOD:PUBLISH
BEGIN:VEVENT
DTSTAMP:20260423T171131Z
CREATED:20170105T192821Z
UID:ATEvent-8ec62f9f07e84319a928704b040f4f4e
LAST-MODIFIED:20170830T144744Z
SUMMARY:Walk on the Wild Side with Carlton Burke
DTSTART:20170909T130000Z
DTEND:20170909T150000Z
DESCRIPTION:Carlton Burke will be visiting FENCE and leading a nature 
 hike on the property. Meet at the FENCE nature center at 9am on Saturd
 ay\, September 9th for a guided hike with local naturalist\, Carlton B
 urke. He brings along much expertise about the natural world! This hik
 e will focus on all things encountered along the way and is appropriat
 e for all ages. Thank you to the Kirby Endowment at the Polk County Co
 mmunity Foundation for making programs like these possible.
LOCATION:FENCE Center
CATEGORIES:Nature Program
CONTACT:Tracie Hanson\, 8288599021\, info@fence.org
CLASS:PUBLIC
END:VEVENT
END:VCALENDAR
