BEGIN:VCALENDAR
PRODID:-//AT Content Types//AT Event//EN
VERSION:1.0
BEGIN:VEVENT
DTSTART:20180217T150000Z
DTEND:20180217T163000Z
DCREATED:20180116T190759Z
UID:ATEvent-cdb52b0ee1184f38b45b9a8de78a7019
SEQUENCE:0
LAST-MODIFIED:20180212T141809Z
SUMMARY:Walk in the Woods
DESCRIPTION:Winter is a wonderful time to explore the woods at FENCE. 
 Come enjoy a walk during this special time of year while discovering t
 he amazing ways local animals and plants survive in the cold winter. D
 ress in layers and wear comfortable walking shoes. This guided walk is
  free and open to the public.
LOCATION:FENCE Center
PRIORITY:3
TRANSP:0
END:VEVENT
END:VCALENDAR
