BEGIN:VCALENDAR
PRODID:-//AT Content Types//AT Event//EN
VERSION:2.0
METHOD:PUBLISH
BEGIN:VEVENT
DTSTAMP:20260420T192008Z
CREATED:20130108T154421Z
UID:ATEvent-3f407102-93f8-4413-a0ae-cb9e6621d8f3
LAST-MODIFIED:20130812T130528Z
SUMMARY:Volunteer TROT Training
DTSTART:20130824T130000Z
DTEND:20130824T160000Z
DESCRIPTION:TROT operates two ten week sessions of riding each year - 
 in the spring and in the fall - and to become a horse leader or a ride
 r side walker we do require that you are at least 16 years of age and 
 first attend a volunteer training session.
LOCATION:Fence Center
CATEGORIES:TROT
CONTACT:Carol TenBroek\, 828-894-6510\, jazzy123@charter.net
CLASS:PUBLIC
END:VEVENT
END:VCALENDAR
