BEGIN:VCALENDAR
PRODID:-//AT Content Types//AT Event//EN
VERSION:2.0
METHOD:PUBLISH
BEGIN:VEVENT
DTSTAMP:20260420T192650Z
CREATED:20140121T135710Z
UID:ATEvent-16ff8c54-206c-4c90-bc8a-928e0e06bae3
LAST-MODIFIED:20140123T185912Z
SUMMARY:Volunteer TROT Training
DTSTART:20140215T150000Z
DTEND:20140215T170000Z
LOCATION:Fence Center
CATEGORIES:Training, TROT
CONTACT:Carol TenBroek\, 828-859-9021
CLASS:PUBLIC
END:VEVENT
END:VCALENDAR
