BEGIN:VCALENDAR
PRODID:-//AT Content Types//AT Event//EN
VERSION:1.0
BEGIN:VEVENT
DTSTART:20130216T140000Z
DTEND:20130216T170000Z
DCREATED:20130108T151634Z
UID:ATEvent-61013220-136c-4ab2-9ffd-413cfc2fc243
SEQUENCE:0
LAST-MODIFIED:20130108T151634Z
SUMMARY:Volunteer TROT Training
LOCATION:Fence Center/Rosemary's Barn
PRIORITY:3
TRANSP:0
END:VEVENT
END:VCALENDAR
