BEGIN:VCALENDAR
PRODID:-//AT Content Types//AT Event//EN
VERSION:1.0
BEGIN:VEVENT
DTSTART:20260207T160000Z
DTEND:20260207T180000Z
DCREATED:20260122T190947Z
UID:ATEvent-03ad05a0bf32430592853ef948c4e887
SEQUENCE:0
LAST-MODIFIED:20260206T125330Z
SUMMARY:RESCHEDULED- Volunteer Interest Meeting
DESCRIPTION:This meeting is being rescheduled for warmer weather. New 
 date TBD. \n\nFENCE is inviting community members to connect\, contrib
 ute\, and be part of something meaningful at our upcoming Volunteer In
 terest Meeting.
PRIORITY:3
TRANSP:0
END:VEVENT
END:VCALENDAR
