BEGIN:VCALENDAR
PRODID:-//AT Content Types//AT Event//EN
VERSION:2.0
METHOD:PUBLISH
BEGIN:VEVENT
DTSTAMP:20260419T141755Z
CREATED:20260309T183535Z
UID:ATEvent-6c4cf44a29024669903354f29734ae03
LAST-MODIFIED:20260309T183535Z
SUMMARY:Volunteer Interest Meeting
DTSTART:20260320T190000Z
DTEND:20260320T210000Z
CATEGORIES:Family
CLASS:PUBLIC
END:VEVENT
END:VCALENDAR
