BEGIN:VCALENDAR
PRODID:-//AT Content Types//AT Event//EN
VERSION:2.0
METHOD:PUBLISH
BEGIN:VEVENT
DTSTAMP:20260423T115052Z
CREATED:20170505T203006Z
UID:ATEvent-8f9d9b4c10dd4f729737d9d60d8b3d3b
LAST-MODIFIED:20170505T203006Z
SUMMARY:Useful Plant Walk
DTSTART:20170525T140000Z
DTEND:20170525T150000Z
DESCRIPTION:Meet at the FENCE center for a guided walk with naturalist
 /survivalist Benjamin ‘Raven’ Pressley. \nSpring is full of opport
 unities to observe nature\, enjoy the sunshine and birds singing ….a
 nd to eat weeds! What? Did you say eat weeds? Yep! A lot of those weed
 s you curse for growing in your yard can be used for food and medicine
 .
LOCATION:FENCE Center
CATEGORIES:Family
CLASS:PUBLIC
END:VEVENT
END:VCALENDAR
