BEGIN:VCALENDAR
PRODID:-//AT Content Types//AT Event//EN
VERSION:2.0
METHOD:PUBLISH
BEGIN:VEVENT
DTSTAMP:20260423T095523Z
CREATED:20240528T170658Z
UID:ATEvent-973a3c89d9f8405dab62d622f2958df7
LAST-MODIFIED:20240809T185711Z
SUMMARY:Understanding Dementia & Alzheimer's
DTSTART:20240817T140000Z
DTEND:20240817T160000Z
DESCRIPTION:This presentation will explore the differences between dem
 entia and Alzheimer's disease. We will talk about the different stages
  and risk factors\, as well as updates on the most current research an
 d FDA-approved treatments. Lastly\, we will provide information on the
  many resources available from the Alzheimer's Association.
LOCATION:FENCE Center
CATEGORIES:Family
CONTACT:Tracie Hanson\, 828-859-9021\, info@fence.org
CLASS:PUBLIC
END:VEVENT
END:VCALENDAR
