BEGIN:VCALENDAR
PRODID:-//AT Content Types//AT Event//EN
VERSION:2.0
METHOD:PUBLISH
BEGIN:VEVENT
DTSTAMP:20260423T141839Z
CREATED:20241115T163209Z
UID:ATEvent-1cd1e21615884ba398606f13ae747481
LAST-MODIFIED:20241219T152428Z
SUMMARY:UKI Trial
DTSTART:20250425T120000Z
DTEND:20250427T210000Z
LOCATION:FENCE Equestrian
CATEGORIES:Dog Show
CONTACT:Lynn Hurley
URL:https://blueridgeagilityclub.com
CLASS:PUBLIC
END:VEVENT
END:VCALENDAR
