BEGIN:VCALENDAR
PRODID:-//AT Content Types//AT Event//EN
VERSION:2.0
METHOD:PUBLISH
BEGIN:VEVENT
DTSTAMP:20260423T154639Z
CREATED:20260210T023328Z
UID:ATEvent-f324efcb074044558d2c52be23a8de45
LAST-MODIFIED:20260223T141843Z
SUMMARY:Turkey tail whisk broom making class
DTSTART:20260531T170000Z
DTEND:20260531T203000Z
DESCRIPTION:In this beginner-friendly class\, you will learn to work w
 ith broomcorn (sorghum) to craft a beautiful and functional traditiona
 l turkey wing whisk broom. Registration is required for this event.
LOCATION:FENCE Center
CATEGORIES:Family
CONTACT:828-859-9021\, info@fence.org
URL:https://handmadebrooms.com/shop/turkey-wing-whisk-brooms-at-f-e-n-c-e-in-tryon-nc-may-31-2025/
CLASS:PUBLIC
END:VEVENT
END:VCALENDAR
