BEGIN:VCALENDAR
PRODID:-//AT Content Types//AT Event//EN
VERSION:2.0
METHOD:PUBLISH
BEGIN:VEVENT
DTSTAMP:20260422T012857Z
CREATED:20200731T180708Z
UID:ATEvent-963a16f53ddc4c9c8a1193c5b524f4a4
LAST-MODIFIED:20200731T180709Z
SUMMARY:Tuesday night schooling
DTSTART:20200804T200000Z
DTEND:20200804T230000Z
DESCRIPTION:Looking to school jump courses in a show ring. Come out an
 d see us from 4pm-7pm.  The cost is $20 to school.  Check in at the an
 nouncer stand between Ring A and B.
LOCATION:FENCE Equestrian Side
CATEGORIES:Schooling
CONTACT:Tracie Hanson\, 828-859-9021\, admin@fence.org
CLASS:PUBLIC
END:VEVENT
END:VCALENDAR
