BEGIN:VCALENDAR
PRODID:-//AT Content Types//AT Event//EN
VERSION:1.0
BEGIN:VEVENT
DTSTART:20230808T200000Z
DTEND:20230809T000000Z
DCREATED:20230117T204515Z
UID:ATEvent-4ef8b9fdd55a485cb06528d93b3fea54
SEQUENCE:0
LAST-MODIFIED:20230117T204515Z
SUMMARY:Tuesday Night Schooling
LOCATION:FENCE Equestrian Side
PRIORITY:3
TRANSP:0
END:VEVENT
END:VCALENDAR
