BEGIN:VCALENDAR
PRODID:-//AT Content Types//AT Event//EN
VERSION:1.0
BEGIN:VEVENT
DTSTART:20230725T200000Z
DTEND:20230726T000000Z
DCREATED:20230117T204427Z
UID:ATEvent-00d2e65aec4643119f5577b9cd37d125
SEQUENCE:0
LAST-MODIFIED:20230117T204427Z
SUMMARY:Tuesday Night Schooling
LOCATION:FENCE Equestrian Side
PRIORITY:3
TRANSP:0
END:VEVENT
END:VCALENDAR
