BEGIN:VCALENDAR
PRODID:-//AT Content Types//AT Event//EN
VERSION:2.0
METHOD:PUBLISH
BEGIN:VEVENT
DTSTAMP:20260423T105426Z
CREATED:20230117T204341Z
UID:ATEvent-fc67ca0b4e71434195802f7d5557edf1
LAST-MODIFIED:20230117T204341Z
SUMMARY:Tuesday Night Schooling
DTSTART:20230711T200000Z
DTEND:20230712T000000Z
LOCATION:FENCE Equestrian Side
CATEGORIES:Horse Show
CONTACT:Tracie Hanson\, 8288599021\, info@fence.org
CLASS:PUBLIC
END:VEVENT
END:VCALENDAR
