BEGIN:VCALENDAR
PRODID:-//AT Content Types//AT Event//EN
VERSION:1.0
BEGIN:VEVENT
DTSTART:20230627T200000Z
DTEND:20230628T000000Z
DCREATED:20230117T204243Z
UID:ATEvent-8cd1da3a26de485badff554dccd62762
SEQUENCE:0
LAST-MODIFIED:20230117T204243Z
SUMMARY:Tuesday Night Schooling
LOCATION:FENCE Equestrian Side
PRIORITY:3
TRANSP:0
END:VEVENT
END:VCALENDAR
