BEGIN:VCALENDAR
PRODID:-//AT Content Types//AT Event//EN
VERSION:1.0
BEGIN:VEVENT
DTSTART:20230613T200000Z
DTEND:20230614T000000Z
DCREATED:20230117T204144Z
UID:ATEvent-c49b3173d9be4cebaf45c52d099b9a09
SEQUENCE:0
LAST-MODIFIED:20230117T204144Z
SUMMARY:Tuesday Night Schooling
LOCATION:FENCE Equestrian Side
PRIORITY:3
TRANSP:0
END:VEVENT
END:VCALENDAR
