BEGIN:VCALENDAR
PRODID:-//AT Content Types//AT Event//EN
VERSION:1.0
BEGIN:VEVENT
DTSTART:20220621T210000Z
DTEND:20220622T000000Z
DCREATED:20220620T151947Z
UID:ATEvent-2bf9ab071ae248798c7de0fc2d67c116
SEQUENCE:0
LAST-MODIFIED:20220620T151947Z
SUMMARY:Tuesday Night Schooling!
LOCATION:FENCE Equestrian Side
PRIORITY:3
TRANSP:0
END:VEVENT
END:VCALENDAR
