BEGIN:VCALENDAR
PRODID:-//AT Content Types//AT Event//EN
VERSION:1.0
BEGIN:VEVENT
DTSTART:20240709T200000Z
DTEND:20240710T000000Z
DCREATED:20240117T143803Z
UID:ATEvent-706a2c903e3e472ca44062763a4ad52c
SEQUENCE:0
LAST-MODIFIED:20240607T152215Z
SUMMARY:Tuesday Night Schooling
PRIORITY:3
TRANSP:0
END:VEVENT
END:VCALENDAR
