BEGIN:VCALENDAR
PRODID:-//AT Content Types//AT Event//EN
VERSION:2.0
METHOD:PUBLISH
BEGIN:VEVENT
DTSTAMP:20260420T012017Z
CREATED:20200807T150402Z
UID:ATEvent-5e23941bff874cfb806953650bd9a712
LAST-MODIFIED:20200807T150403Z
SUMMARY:Tuesday Night Schooling
DTSTART:20200818T080000Z
DTEND:20200818T230000Z
DESCRIPTION:Show rings A and B will be open for schooling. The cost is
  $20 and a release form will need to be signed.
LOCATION:FENCE Equestrian Side
CATEGORIES:Schooling
CONTACT:Tracie Hanson\, 828-859-9021\, admin@fence.org
CLASS:PUBLIC
END:VEVENT
END:VCALENDAR
