BEGIN:VCALENDAR
PRODID:-//AT Content Types//AT Event//EN
VERSION:2.0
METHOD:PUBLISH
BEGIN:VEVENT
DTSTAMP:20260423T115241Z
CREATED:20130228T183812Z
UID:ATEvent-b1adb8eb-a4d9-4181-8a6b-07d6b9baf988
LAST-MODIFIED:20130322T150723Z
SUMMARY:TR&HC Charity Horse Show
DTSTART:20130606T120000Z
DTEND:20130609T210000Z
DESCRIPTION:USEF A Rated hunter & jumper competition. Featured classes
  include the Ariat Charity Jumper Challenge on June 7th and the $15,00
 0 Equestrian Sport Productions Jumper Prix on June 8th.
LOCATION:FENCE EQ side
CATEGORIES:Horse Show
CONTACT:Laura Weicker\, 828-863-0480
CLASS:PUBLIC
END:VEVENT
END:VCALENDAR
