BEGIN:VCALENDAR
PRODID:-//AT Content Types//AT Event//EN
VERSION:1.0
BEGIN:VEVENT
DTSTART:20250417T120000Z
DTEND:20250419T210000Z
DCREATED:20241115T162946Z
UID:ATEvent-4064ebf6c3c14430a38819ed9d86106f
SEQUENCE:0
LAST-MODIFIED:20250212T143804Z
SUMMARY:Tryon Riding & Hunt Club Horse & Hound
LOCATION:FENCE Equestrian
PRIORITY:3
TRANSP:0
END:VEVENT
END:VCALENDAR
