BEGIN:VCALENDAR
PRODID:-//AT Content Types//AT Event//EN
VERSION:2.0
METHOD:PUBLISH
BEGIN:VEVENT
DTSTAMP:20260423T144529Z
CREATED:20130315T204845Z
UID:ATEvent-05d69f5c-df1f-4b8d-9b62-fb1281f2cfa1
LAST-MODIFIED:20130626T135027Z
SUMMARY:TR&HC Charity Horse Show II
DTSTART:20130704T120000Z
DTEND:20130707T210000Z
DESCRIPTION:USEF A Rated hunter & jumper competition. Featured classes
  include $2,500 USHJA National Hunter Derby on July 5th and the $15,00
 0 Jumper Prix on July 6th.
LOCATION:FENCE EQ side
CATEGORIES:Horse Show
CONTACT:Laura Weicker\, 828-863-0480
URL:http://www.trhcevents.org
CLASS:PUBLIC
END:VEVENT
END:VCALENDAR
