BEGIN:VCALENDAR
PRODID:-//AT Content Types//AT Event//EN
VERSION:1.0
BEGIN:VEVENT
DTSTART:20130717T120000Z
DTEND:20130720T215500Z
DCREATED:20130315T205254Z
UID:ATEvent-70489261-0f46-412c-ad09-44e04b5fdd47
SEQUENCE:0
LAST-MODIFIED:20130626T135308Z
SUMMARY:TR&HC Charity Horse Show IV
DESCRIPTION:USEF A Rated hunter & jumper competition. Featured classes
  include $2,500 USHJA National Hunter Derby on July 18th and the $10,0
 00 Jumper Prix on July 19th.
LOCATION:FENCE EQ side
PRIORITY:3
TRANSP:0
END:VEVENT
END:VCALENDAR
