BEGIN:VCALENDAR
PRODID:-//AT Content Types//AT Event//EN
VERSION:2.0
METHOD:PUBLISH
BEGIN:VEVENT
DTSTAMP:20260423T171302Z
CREATED:20130315T205113Z
UID:ATEvent-c85df4b8-9a47-480f-b184-97e29653568d
LAST-MODIFIED:20130626T135250Z
SUMMARY:TR&HC Charity Horse Show III
DTSTART:20130711T120000Z
DTEND:20130714T210000Z
DESCRIPTION:USEF A Rated hunter & jumper competition. Featured classes
  include $1,000 Motlow Creek Equestrian Center Gambler's Choice on Jul
 y 12th and the $10,000 Triple Crown Custom Jumper Prix on July 13th.
LOCATION:FENCE EQ side
CATEGORIES:Horse Show
CONTACT:Laura Weicker\, 828-863-0480
URL:http://www.trhcevents.org
CLASS:PUBLIC
END:VEVENT
END:VCALENDAR
