BEGIN:VCALENDAR
PRODID:-//AT Content Types//AT Event//EN
VERSION:1.0
BEGIN:VEVENT
DTSTART:20150408T120000Z
DTEND:20150408T140000Z
DCREATED:20150312T184432Z
UID:ATEvent-cfeed461-a2f9-43c1-8eb9-b1a5c4d5dcb3
SEQUENCE:0
LAST-MODIFIED:20150312T184432Z
SUMMARY:Tryon & Polk County Venture
DESCRIPTION:Join Simon Thompson for a day out around the foothills of 
 the Blue Ridge. Spring arrives here earlier than in the Blue Ridge and
  we should see several swallow\, warblers and other spring arrivals.
PRIORITY:3
TRANSP:0
END:VEVENT
END:VCALENDAR
