BEGIN:VCALENDAR
PRODID:-//AT Content Types//AT Event//EN
VERSION:1.0
BEGIN:VEVENT
DTSTART:20190816T120000Z
DTEND:20190816T160000Z
DCREATED:20190709T124009Z
UID:ATEvent-c23ab9039a1c47b688797b817e736542
SEQUENCE:0
LAST-MODIFIED:20190709T124009Z
SUMMARY:Tryon Hounds Cross Country Schooling Day
LOCATION:FENCE Center
PRIORITY:3
TRANSP:0
END:VEVENT
END:VCALENDAR
