BEGIN:VCALENDAR
PRODID:-//AT Content Types//AT Event//EN
VERSION:2.0
METHOD:PUBLISH
BEGIN:VEVENT
DTSTAMP:20260423T105354Z
CREATED:20140103T193213Z
UID:ATEvent-df139898-d222-4319-87cf-f37c6c9f9913
LAST-MODIFIED:20140103T193213Z
SUMMARY:Tryon Horse Show LLC
DTSTART:20140523T120000Z
DTEND:20140525T210000Z
LOCATION:FENCE EQ side
CATEGORIES:Horse Show
CLASS:PUBLIC
END:VEVENT
END:VCALENDAR
