BEGIN:VCALENDAR
PRODID:-//AT Content Types//AT Event//EN
VERSION:1.0
BEGIN:VEVENT
DTSTART:20140604T120000Z
DTEND:20140608T210000Z
DCREATED:20140103T193444Z
UID:ATEvent-fa3cf1c5-8cdf-492f-bbc4-f5702152f640
SEQUENCE:0
LAST-MODIFIED:20140103T193444Z
SUMMARY:Tryon Horse Show LLC
LOCATION:FENCE EQ side
PRIORITY:3
TRANSP:0
END:VEVENT
END:VCALENDAR
