BEGIN:VCALENDAR
PRODID:-//AT Content Types//AT Event//EN
VERSION:1.0
BEGIN:VEVENT
DTSTART:20221019T210000Z
DTEND:20221019T220000Z
DCREATED:20221013T120200Z
UID:ATEvent-59339599b91b405ab502f9afbf4a45db
SEQUENCE:0
LAST-MODIFIED:20221013T120200Z
SUMMARY:Tryon Garden Presents HIGHLIGHTS OF CONSERVING CAROLINA
DESCRIPTION:Kieran Roe\, Executive Director of Conserving Carolina\, w
 ill share the excitement around the 47,000 acres in Henderson\, Polk\,
  Transylvania and parts of neighboring counties that are currently und
 er conservation through Conserving Carolina. Think “get people outsi
 de”\, land protection\, trails\, greenways\, and potential rails to 
 trails.  Find out what the biggest threats are:  development patterns 
 and climate threat.  Bring your friends and learn what’s happening i
 n our very own part of the world!
LOCATION:FENCE Center
PRIORITY:3
TRANSP:0
END:VEVENT
END:VCALENDAR
