BEGIN:VCALENDAR
PRODID:-//AT Content Types//AT Event//EN
VERSION:2.0
METHOD:PUBLISH
BEGIN:VEVENT
DTSTAMP:20260423T234653Z
CREATED:20190122T215726Z
UID:ATEvent-45a0fa8f850a4a548ca975e98ac2b266
LAST-MODIFIED:20190122T215726Z
SUMMARY:Tryon Garden Club Program
DTSTART:20190220T190000Z
DTEND:20190220T203000Z
LOCATION:FENCE Center
CATEGORIES:Nature Program
CONTACT:Tryon Garden Club
CLASS:PUBLIC
END:VEVENT
END:VCALENDAR
