BEGIN:VCALENDAR
PRODID:-//AT Content Types//AT Event//EN
VERSION:1.0
BEGIN:VEVENT
DTSTART:20200916T180000Z
DTEND:20200916T190000Z
DCREATED:20200109T214215Z
UID:ATEvent-057f3ed466cb47af88036772b72a493d
SEQUENCE:0
LAST-MODIFIED:20200109T214215Z
SUMMARY:Tryon Garden Club Program
DESCRIPTION:Guest speaker Richard Porcher
LOCATION:FENCE Center
PRIORITY:3
TRANSP:0
END:VEVENT
END:VCALENDAR
