BEGIN:VCALENDAR
PRODID:-//AT Content Types//AT Event//EN
VERSION:1.0
BEGIN:VEVENT
DTSTART:20200318T180000Z
DTEND:20200318T190000Z
DCREATED:20200109T214106Z
UID:ATEvent-24833c0914b04974839ccbf5cc3ba2db
SEQUENCE:0
LAST-MODIFIED:20200316T141112Z
SUMMARY:Tryon Garden Club Program-Canceled
DESCRIPTION:Guest speaker Rick Huffman\, founder of SC Native Plant So
 ciety
LOCATION:FENCE Center
PRIORITY:3
TRANSP:0
END:VEVENT
END:VCALENDAR
