BEGIN:VCALENDAR
PRODID:-//AT Content Types//AT Event//EN
VERSION:2.0
METHOD:PUBLISH
BEGIN:VEVENT
DTSTAMP:20260423T130927Z
CREATED:20200109T213938Z
UID:ATEvent-8af61177ebc54f1484b923048e14eef8
LAST-MODIFIED:20200109T213938Z
SUMMARY:Tryon Garden Club Program
DTSTART:20200219T190000Z
DTEND:20200219T200000Z
DESCRIPTION:"Wetlands\, Long Leaf Pines" with Steve Bennett
LOCATION:FENCE Center
CATEGORIES:Nature Program
URL:http://www.pearsonsfalls.org
CLASS:PUBLIC
END:VEVENT
END:VCALENDAR
