BEGIN:VCALENDAR
PRODID:-//AT Content Types//AT Event//EN
VERSION:1.0
BEGIN:VEVENT
DTSTART:20200115T190000Z
DTEND:20200115T200000Z
DCREATED:20200109T213756Z
UID:ATEvent-5903c54a0d364136b28f3fc16fc3ceca
SEQUENCE:0
LAST-MODIFIED:20200109T213957Z
SUMMARY:Tryon Garden Club Program
DESCRIPTION:Guest speaker David Campbell. Author of An Inventory of th
 e Significant Natural Areas of Polk Count\, NC
LOCATION:FENCE Center
PRIORITY:3
TRANSP:0
END:VEVENT
END:VCALENDAR
