BEGIN:VCALENDAR
PRODID:-//AT Content Types//AT Event//EN
VERSION:2.0
METHOD:PUBLISH
BEGIN:VEVENT
DTSTAMP:20260423T114918Z
CREATED:20140728T140354Z
UID:ATEvent-7b712fbe-af75-455a-b9d7-56447a8aced6
LAST-MODIFIED:20141027T150739Z
SUMMARY:Tryon Foothills Classic
DTSTART:20141031T040000Z
DTEND:20141102T040000Z
DESCRIPTION:"AA" Hunter Jumper Show
LOCATION:FENCE EQ side
CATEGORIES:Horse Show
CONTACT:Cheryl Sims\, csims1128@att.net
CLASS:PUBLIC
END:VEVENT
END:VCALENDAR
