BEGIN:VCALENDAR
PRODID:-//AT Content Types//AT Event//EN
VERSION:2.0
METHOD:PUBLISH
BEGIN:VEVENT
DTSTAMP:20260423T115056Z
CREATED:20120723T183913Z
UID:ATEvent-2d2b69bb-e869-43da-831d-1c1080f1306d
LAST-MODIFIED:20120723T183914Z
SUMMARY:TROT volunteer training
DTSTART:20120818T130000Z
DTEND:20120818T170000Z
LOCATION:FENCE Center & TROT Barn
CONTACT:828-859-9021\, therapeuticriding@fence.org
CLASS:PUBLIC
END:VEVENT
END:VCALENDAR
