BEGIN:VCALENDAR
PRODID:-//AT Content Types//AT Event//EN
VERSION:2.0
METHOD:PUBLISH
BEGIN:VEVENT
DTSTAMP:20260423T131151Z
CREATED:20230117T194712Z
UID:ATEvent-76342062419c48839e7e448ae95d5f6e
LAST-MODIFIED:20230117T194712Z
SUMMARY:TROT Volunteer Training
DTSTART:20230223T140000Z
DTEND:20230223T170000Z
DESCRIPTION:If you are interested in learning more about TROT and beco
 ming a volunteer     or have a horse that can volunteer\, please conta
 ct FENCE at  828-859-9021 or email therapeuticriding@fence.org.   The 
 program continues to grow\, and we are looking forward to the Fall ses
 sion & will need to add to the dedicated volunteer group we have been 
 depending on!
LOCATION:FENCE Center
CATEGORIES:Family
CONTACT:Kathleen Watkins\, therapeuticriding@fence.org
CLASS:PUBLIC
END:VEVENT
END:VCALENDAR
