BEGIN:VCALENDAR
PRODID:-//AT Content Types//AT Event//EN
VERSION:2.0
METHOD:PUBLISH
BEGIN:VEVENT
DTSTAMP:20260423T142242Z
CREATED:20230117T194456Z
UID:ATEvent-33786b5e5ed74c3ca8fcf7ad7ccd6979
LAST-MODIFIED:20230117T194547Z
SUMMARY:TROT Volunteer Training
DTSTART:20230225T140000Z
DTEND:20230225T170000Z
DESCRIPTION:If you are interested in learning more about TROT and beco
 ming a volunteer or have a horse that can volunteer\, please contact a
 t FENCE at  828-859-9021 or email therapeuticriding@fence.org.   The p
 rogram continues to grow\, and we are looking forward to the Spring se
 ssion & will need to add to the dedicated volunteer group we have been
  depending on!
LOCATION:FENCE Center
CATEGORIES:Family
CONTACT:Kathleen Watkins\, 828-859-9021\, therapeuticriding@fence.org
CLASS:PUBLIC
END:VEVENT
END:VCALENDAR
