BEGIN:VCALENDAR
PRODID:-//AT Content Types//AT Event//EN
VERSION:1.0
BEGIN:VEVENT
DTSTART:20220825T130000Z
DTEND:20220825T150000Z
DCREATED:20220726T165847Z
UID:ATEvent-4b3c1232577d4fde82b22b23b3035578
SEQUENCE:0
LAST-MODIFIED:20220726T165847Z
SUMMARY:TROT Volunteer Training
DESCRIPTION:If you are interested in learning more about TROT and beco
 ming a volunteer or have a horse that can volunteer\, please contact K
 athleen Watkins at FENCE at  828-859-9021 or email therapeuticriding@f
 ence.org.   The program continues to grow\, and we are looking forward
  to the Fall session & will need to add to the dedicated volunteer gro
 up we have been depending on!
LOCATION:FENCE Center
PRIORITY:3
TRANSP:0
END:VEVENT
END:VCALENDAR
