BEGIN:VCALENDAR
PRODID:-//AT Content Types//AT Event//EN
VERSION:1.0
BEGIN:VEVENT
DTSTART:20190223T180000Z
DTEND:20190223T200000Z
DCREATED:20190123T205720Z
UID:ATEvent-4b8791056735477d8f11d7b478b012ca
SEQUENCE:0
LAST-MODIFIED:20190123T205720Z
SUMMARY:TROT volunteer Training
LOCATION:FENCE Center
PRIORITY:3
TRANSP:0
END:VEVENT
END:VCALENDAR
