BEGIN:VCALENDAR
PRODID:-//AT Content Types//AT Event//EN
VERSION:2.0
METHOD:PUBLISH
BEGIN:VEVENT
DTSTAMP:20260420T191130Z
CREATED:20180126T034414Z
UID:ATEvent-5bee16b401304c7cb6ae32f7c3728725
LAST-MODIFIED:20180126T034414Z
SUMMARY:TROT Volunteer Training
DTSTART:20180217T140000Z
DTEND:20180217T170000Z
LOCATION:Fence Center
CATEGORIES:TROT
CONTACT:Allison Rhyne\, 828-859-9021\, Therapeuticriding@fence.org
CLASS:PUBLIC
END:VEVENT
END:VCALENDAR
