BEGIN:VCALENDAR
PRODID:-//AT Content Types//AT Event//EN
VERSION:2.0
METHOD:PUBLISH
BEGIN:VEVENT
DTSTAMP:20260420T191502Z
CREATED:20180209T212545Z
UID:ATEvent-f690aab7b95d4fc083d34fa9a460c66d
LAST-MODIFIED:20180209T212546Z
SUMMARY:TROT Veterans Program
DTSTART:20180511T130000Z
DTEND:20180511T160000Z
LOCATION:FENCE Equestrian Side
CATEGORIES:TROT
CONTACT:Allison Rhyne\, 8288599021\, therapeuticriding@fence.org
CLASS:PUBLIC
END:VEVENT
END:VCALENDAR
