BEGIN:VCALENDAR
PRODID:-//AT Content Types//AT Event//EN
VERSION:2.0
METHOD:PUBLISH
BEGIN:VEVENT
DTSTAMP:20260420T191436Z
CREATED:20210629T155252Z
UID:ATEvent-0d9db2b342764b8b955828f50b601137
LAST-MODIFIED:20210818T121912Z
SUMMARY:TROT training
DTSTART:20210828T090000Z
DTEND:20210828T120000Z
LOCATION:FENCE Center
CATEGORIES:TROT
CONTACT:Meg McGarrigle\, 828-859-9021\, therapeuticriding@fence.org
CLASS:PUBLIC
END:VEVENT
END:VCALENDAR
