BEGIN:VCALENDAR
PRODID:-//AT Content Types//AT Event//EN
VERSION:1.0
BEGIN:VEVENT
DTSTART:20200222T140000Z
DTEND:20200222T170000Z
DCREATED:20200109T214927Z
UID:ATEvent-cc77024d9a624946a63bb76092d72d14
SEQUENCE:0
LAST-MODIFIED:20200109T214927Z
SUMMARY:TROT Training Session
LOCATION:FENCE Center
PRIORITY:3
TRANSP:0
END:VEVENT
END:VCALENDAR
